BEGIN:VCALENDAR
VERSION:2.0
PRODID:-//T.R. Robinson High IB Link - ECPv5.9.1//NONSGML v1.0//EN
CALSCALE:GREGORIAN
METHOD:PUBLISH
X-WR-CALNAME:T.R. Robinson High IB Link
X-ORIGINAL-URL:https://robinsonhighib.com
X-WR-CALDESC:Events for T.R. Robinson High IB Link
BEGIN:VTIMEZONE
TZID:America/New_York
BEGIN:DAYLIGHT
TZOFFSETFROM:-0500
TZOFFSETTO:-0400
TZNAME:EDT
DTSTART:20240310T070000
END:DAYLIGHT
BEGIN:STANDARD
TZOFFSETFROM:-0400
TZOFFSETTO:-0500
TZNAME:EST
DTSTART:20241103T060000
END:STANDARD
END:VTIMEZONE
BEGIN:VEVENT
DTSTART;TZID=America/New_York:20240803T080000
DTEND;TZID=America/New_York:20240803T090000
DTSTAMP:20260422T135218
CREATED:20240724T225718Z
LAST-MODIFIED:20240724T225718Z
UID:6593-1722672000-1722675600@robinsonhighib.com
SUMMARY:New Parent Coffee
DESCRIPTION:Meet up before the RHS Fast Camp to hear from our student organizations.
URL:https://robinsonhighib.com/event/new-parent-coffee/
CATEGORIES:IB Events,School Days A/B/Club
ATTACH;FMTTYPE=image/png:https://robinsonhighib.com/wp-content/uploads/2024/07/1000007864-1.png
END:VEVENT
END:VCALENDAR