BEGIN:VCALENDAR
VERSION:2.0
PRODID:-//T.R. Robinson High IB Link - ECPv5.9.1//NONSGML v1.0//EN
CALSCALE:GREGORIAN
METHOD:PUBLISH
X-WR-CALNAME:T.R. Robinson High IB Link
X-ORIGINAL-URL:https://robinsonhighib.com
X-WR-CALDESC:Events for T.R. Robinson High IB Link
BEGIN:VTIMEZONE
TZID:America/New_York
BEGIN:DAYLIGHT
TZOFFSETFROM:-0500
TZOFFSETTO:-0400
TZNAME:EDT
DTSTART:20240310T070000
END:DAYLIGHT
BEGIN:STANDARD
TZOFFSETFROM:-0400
TZOFFSETTO:-0500
TZNAME:EST
DTSTART:20241103T060000
END:STANDARD
END:VTIMEZONE
BEGIN:VEVENT
DTSTART;TZID=America/New_York:20240808T093000
DTEND;TZID=America/New_York:20240808T160000
DTSTAMP:20260422T083730
CREATED:20240724T230843Z
LAST-MODIFIED:20240724T230843Z
UID:6600-1723109400-1723132800@robinsonhighib.com
SUMMARY:RHS Open House
DESCRIPTION:Join us to pick up your schedules\, visit your classrooms\, meet your teachers\, and get organized for the year ahead! \n9th graders: come in anytime between 1:30 pm – 4:00 pm \n10th-12th graders: come in anytime between 9:30 am -11:30 am
URL:https://robinsonhighib.com/event/rhs-open-house-2/
END:VEVENT
END:VCALENDAR